Workbook

Sheet январь
A1: Объем фактического полезного отпуска электроэнергии и мощности ООО "ЦОД ЭНЕРГО"
A3: период | B3: ЯНВАРЬ 2026 года
A5: Регион | B5: Группа потребителей | C5: Электроэнергия, кВт*ч
A6: Московская область | B6: Потребители с максимальной мощностью менее 670 кВт
B7: Потребители с максимальной мощностью от 670 кВт до 10 МВт | C7: =[1]январь!$F$9 -> 13634
B8: Потребители с максимальной мощностью свыше 10 МВт | C8: =[1]январь!$D$9 -> 4384220
B9: ИТОГО | C9: =SUM(C6:C8) -> 4397854
A10: г.Москва | B10: Потребители с максимальной мощностью менее 670 кВт
B11: Потребители с максимальной мощностью от 670 кВт до 10 МВт | C11: =[1]январь!$F$12 -> 472417
B12: Потребители с максимальной мощностью свыше 10 МВт | C12: =[1]январь!$D$13 -> 16064986
B13: ИТОГО | C13: =SUM(C10:C12) -> 16537403

Sheet февраль
A1: Объем фактического полезного отпуска электроэнергии и мощности ООО "ЦОД ЭНЕРГО"
A3: период | B3: ФЕВРАЛЬ 2026 года
A5: Регион | B5: Группа потребителей | C5: Электроэнергия, кВт*ч
A6: Московская область | B6: Потребители с максимальной мощностью менее 670 кВт
B7: Потребители с максимальной мощностью от 670 кВт до 10 МВт | C7: =[1]февраль!$F$9 -> 12547
B8: Потребители с максимальной мощностью свыше 10 МВт | C8: =[1]февраль!$D$9 -> 4072356
B9: ИТОГО | C9: =SUM(C6:C8) -> 4084903
A10: г.Москва | B10: Потребители с максимальной мощностью менее 670 кВт
B11: Потребители с максимальной мощностью от 670 кВт до 10 МВт | C11: =[1]февраль!$F$12 -> 422503
B12: Потребители с максимальной мощностью свыше 10 МВт | C12: =[1]февраль!$D$13 -> 14623294
B13: ИТОГО | C13: =SUM(C10:C12) -> 15045797

Sheet март
A1: Объем фактического полезного отпуска электроэнергии и мощности ООО "ЦОД ЭНЕРГО"
A3: период | B3: МАРТ 2026 года
A5: Регион | B5: Группа потребителей | C5: Электроэнергия, кВт*ч
A6: Московская область | B6: Потребители с максимальной мощностью менее 670 кВт
B7: Потребители с максимальной мощностью от 670 кВт до 10 МВт | C7: =[1]март!$F$9 -> 13634
B8: Потребители с максимальной мощностью свыше 10 МВт | C8: =[1]март!$D$9 -> 4875295
B9: ИТОГО | C9: =SUM(C6:C8) -> 4888929
A10: г.Москва | B10: Потребители с максимальной мощностью менее 670 кВт
B11: Потребители с максимальной мощностью от 670 кВт до 10 МВт | C11: =[1]март!$F$12 -> 386259
B12: Потребители с максимальной мощностью свыше 10 МВт | C12: =[1]март!$D$13 -> 17638763
B13: ИТОГО | C13: =SUM(C10:C12) -> 18025022

Sheet апрель
A1: Объем фактического полезного отпуска электроэнергии и мощности ООО "ЦОД ЭНЕРГО"
A3: период | B3: АПРЕЛЬ 2026 года
A5: Регион | B5: Группа потребителей | C5: Электроэнергия, кВт*ч
A6: Московская область | B6: Потребители с максимальной мощностью менее 670 кВт
B7: Потребители с максимальной мощностью от 670 кВт до 10 МВт | C7: =[1]апрель!$F$9 -> 7512
B8: Потребители с максимальной мощностью свыше 10 МВт | C8: =[1]апрель!$D$9 -> 4755645
B9: ИТОГО | C9: =SUM(C6:C8) -> 4763157
A10: г.Москва | B10: Потребители с максимальной мощностью менее 670 кВт
B11: Потребители с максимальной мощностью от 670 кВт до 10 МВт | C11: =[1]апрель!$F$12 -> 385892
B12: Потребители с максимальной мощностью свыше 10 МВт | C12: =[1]апрель!$D$13 -> 17146265
B13: ИТОГО | C13: =SUM(C10:C12) -> 17532157

Sheet Май
A1: Объем фактического полезного отпуска электроэнергии и мощности ООО "ЦОД ЭНЕРГО"
A3: период | B3: МАЙ 2026 года
A5: Регион | B5: Группа потребителей | C5: Электроэнергия, кВт*ч
A6: Московская область | B6: Потребители с максимальной мощностью менее 670 кВт
B7: Потребители с максимальной мощностью от 670 кВт до 10 МВт | C7: =[1]Май!$F$9 -> 0
B8: Потребители с максимальной мощностью свыше 10 МВт | C8: =[1]Май!$D$9 -> 5090091
B9: ИТОГО | C9: =SUM(C6:C8) -> 5090091
A10: г.Москва | B10: Потребители с максимальной мощностью менее 670 кВт
B11: Потребители с максимальной мощностью от 670 кВт до 10 МВт | C11: =[1]Май!$F$12 -> 442107
B12: Потребители с максимальной мощностью свыше 10 МВт | C12: =[1]Май!$D$13 -> 18599228
B13: ИТОГО | C13: =SUM(C10:C12) -> 19041335

Sheet Июнь
A1: Объем фактического полезного отпуска электроэнергии и мощности ООО "ЦОД ЭНЕРГО"
A3: период | B3: ИЮНЬ 2026 года
A5: Регион | B5: Группа потребителей | C5: Электроэнергия, кВт*ч
A6: Московская область | B6: Потребители с максимальной мощностью менее 670 кВт
B7: Потребители с максимальной мощностью от 670 кВт до 10 МВт | C7: =[1]Июнь!$F$9 -> 2556
B8: Потребители с максимальной мощностью свыше 10 МВт | C8: =[1]Июнь!$D$9 -> 5059136
B9: ИТОГО | C9: =SUM(C6:C8) -> 5061692
A10: г.Москва | B10: Потребители с максимальной мощностью менее 670 кВт
B11: Потребители с максимальной мощностью от 670 кВт до 10 МВт | C11: =[1]Июнь!$F$12 -> 475215
B12: Потребители с максимальной мощностью свыше 10 МВт | C12: =[1]Июнь!$D$13 -> 18339218
B13: ИТОГО | C13: =SUM(C10:C12) -> 18814433

Sheet Июль
A1: Объем фактического полезного отпуска электроэнергии и мощности ООО "ЦОД ЭНЕРГО"
A3: период | B3: ИЮЛЬ 2026 года
A5: Регион | B5: Группа потребителей | C5: Электроэнергия, кВт*ч
A6: Московская область | B6: Потребители с максимальной мощностью менее 670 кВт
B7: Потребители с максимальной мощностью от 670 кВт до 10 МВт | C7: =[1]Июль!$F$9 -> 2458
B8: Потребители с максимальной мощностью свыше 10 МВт | C8: =[1]Июль!$D$9 -> 5305279
B9: ИТОГО | C9: =SUM(C6:C8) -> 5307737
A10: г.Москва | B10: Потребители с максимальной мощностью менее 670 кВт
B11: Потребители с максимальной мощностью от 670 кВт до 10 МВт | C11: =[1]Июль!$F$12 -> 532597
B12: Потребители с максимальной мощностью свыше 10 МВт | C12: =[1]Июль!$D$13 -> 19109858
B13: ИТОГО | C13: =SUM(C10:C12) -> 19642455

Sheet Август
A1: Объем фактического полезного отпуска электроэнергии и мощности ООО "ЦОД ЭНЕРГО"
A3: период | B3: АВГУСТ 2026 года
A5: Регион | B5: Группа потребителей | C5: Электроэнергия, кВт*ч
A6: Московская область | B6: Потребители с максимальной мощностью менее 670 кВт
B7: Потребители с максимальной мощностью от 670 кВт до 10 МВт | C7: =[1]Август!$F$9 -> 2684
B8: Потребители с максимальной мощностью свыше 10 МВт | C8: =[1]Август!$D$9 -> 5329930
B9: ИТОГО | C9: =SUM(C6:C8) -> 5332614
A10: г.Москва | B10: Потребители с максимальной мощностью менее 670 кВт
B11: Потребители с максимальной мощностью от 670 кВт до 10 МВт | C11: =[1]Август!$F$12 -> 481704
B12: Потребители с максимальной мощностью свыше 10 МВт | C12: =[1]Август!$D$13 -> 18949668
B13: ИТОГО | C13: =SUM(C10:C12) -> 19431372

Sheet Сентябрь
A1: Объем фактического полезного отпуска электроэнергии и мощности ООО "ЦОД ЭНЕРГО"
A3: период | B3: СЕНТЯБРЬ 2026 года
A5: Регион | B5: Группа потребителей | C5: Электроэнергия, кВт*ч
A6: Московская область | B6: Потребители с максимальной мощностью менее 670 кВт
B7: Потребители с максимальной мощностью от 670 кВт до 10 МВт | C7: =[1]Сентябрь!$F$9 -> 3211
B8: Потребители с максимальной мощностью свыше 10 МВт | C8: =[1]Сентябрь!$D$9 -> 5075630
B9: ИТОГО | C9: =SUM(C6:C8) -> 5078841
A10: г.Москва | B10: Потребители с максимальной мощностью менее 670 кВт
B11: Потребители с максимальной мощностью от 670 кВт до 10 МВт | C11: =[1]Сентябрь!$F$12 -> 473126
B12: Потребители с максимальной мощностью свыше 10 МВт | C12: =[1]Сентябрь!$D$13 -> 17893831
B13: ИТОГО | C13: =SUM(C10:C12) -> 18366957
